BEGIN:VCALENDAR
VERSION:2.0
PRODID:-//madebyheroes - ECPv6.15.20//NONSGML v1.0//EN
CALSCALE:GREGORIAN
METHOD:PUBLISH
X-ORIGINAL-URL:https://madebyheroes.nl
X-WR-CALDESC:Evenementen voor madebyheroes
REFRESH-INTERVAL;VALUE=DURATION:PT1H
X-Robots-Tag:noindex
X-PUBLISHED-TTL:PT1H
BEGIN:VTIMEZONE
TZID:Europe/Amsterdam
BEGIN:DAYLIGHT
TZOFFSETFROM:+0100
TZOFFSETTO:+0200
TZNAME:CEST
DTSTART:20250330T010000
END:DAYLIGHT
BEGIN:STANDARD
TZOFFSETFROM:+0200
TZOFFSETTO:+0100
TZNAME:CET
DTSTART:20251026T010000
END:STANDARD
BEGIN:DAYLIGHT
TZOFFSETFROM:+0100
TZOFFSETTO:+0200
TZNAME:CEST
DTSTART:20260329T010000
END:DAYLIGHT
BEGIN:STANDARD
TZOFFSETFROM:+0200
TZOFFSETTO:+0100
TZNAME:CET
DTSTART:20261025T010000
END:STANDARD
BEGIN:DAYLIGHT
TZOFFSETFROM:+0100
TZOFFSETTO:+0200
TZNAME:CEST
DTSTART:20270328T010000
END:DAYLIGHT
BEGIN:STANDARD
TZOFFSETFROM:+0200
TZOFFSETTO:+0100
TZNAME:CET
DTSTART:20271031T010000
END:STANDARD
END:VTIMEZONE
BEGIN:VEVENT
DTSTART;TZID=Europe/Amsterdam:20260418T100000
DTEND;TZID=Europe/Amsterdam:20260418T130000
DTSTAMP:20260424T183133
CREATED:20260128T182727Z
LAST-MODIFIED:20260313T125355Z
UID:4686-1776506400-1776517200@madebyheroes.nl
SUMMARY:Workshop Kaarsen maken met kaarsenhouder
DESCRIPTION:zaterdag 18 april – 10:00 – 13:00\n\n\n\n€ 40\,00\n\n\n\n			\n				\n					Aanmelden\n				\n			\n		\n\n\nInfo/locatie:Surinameplein 35 Amsterdaminfo@madebyheroes.nl \n\n\n\n\n\n\n\nZin in een creatieve en gezellige dag? In deze eendaagse workshop van ongeveer 3 uur ga je je eigen geurkaars maken van sojawas\, mét een zelfgemaakte kaarsenhouder. Je mag helemaal losgaan: kies de kleuren die jij mooi vindt\, een vorm die bij je past en een geur waar je blij van wordt. Wil je glitter\, goud of bloemetjes toevoegen? Alles mag ✨! \n\n\n\n\n\n\n\nDe kaarsenhouder maken we met Jesmonite. Dat is een duurzaam en veilig gietmateriaal waarmee je mooie\, stevige bakjes kunt maken. \n\n\n\n\n\nHet leuke is: geen enkele kaarsenhouder wordt hetzelfde – jouw creatie is echt uniek.Alles wordt rustig en stap voor stap uitgelegd\, dus ervaring is helemaal niet nodig. Tijdens de workshop kies je zelf de vorm\, kleur en geur van jouw kaars.De workshop is speciaal voor jongeren met een beperking (12–28 jaar) en vindt plaats in een kleinschalige en ontspannen setting. \n\n\n\nOuders en/of begeleiders zijn welkom om mee te doen. Liever even ontspannen? Dan kunnen zij tijdens de workshop iets drinken bij café Chef! in hetzelfde gebouw. \n\n\n\nAan het einde van de workshop ga je naar huis met een prachtige\, zelfgemaakte geurkaars waar je trots op kunt zijn!
URL:https://madebyheroes.nl/cursus/workshop-kaarsen-maken-met-kaarsenhouder/
CATEGORIES:16-28 jr - ook met beperking
ATTACH;FMTTYPE=image/webp:https://madebyheroes.nl/wp-content/uploads/2024/03/candlemaking4-scaled.webp
END:VEVENT
BEGIN:VEVENT
DTSTART;TZID=Europe/Amsterdam:20260425T100000
DTEND;TZID=Europe/Amsterdam:20260425T130000
DTSTAMP:20260424T183133
CREATED:20260313T170923Z
LAST-MODIFIED:20260313T170923Z
UID:4768-1777111200-1777122000@madebyheroes.nl
SUMMARY:Workshop Lente Kaarsen maken
DESCRIPTION:zaterdag 18 april – 10:00 – 13:00\n\n\n\n€ 40\,00\n\n\n\n			\n				\n					Aanmelden\n				\n			\n		\n\n\nInfo/locatie:Surinameplein 35 Amsterdaminfo@madebyheroes.nl \n\n\n\n\n\n\n\nZin in de lente? Kies voor een gezellige en creatieve cursus met lentevibes! In deze eendaagse workshop van ongeveer 3 uur maak je je eigen geurkaars maken van natuurvriendelijke sojawas\, mét echte gedroogde bloemen. Je mag helemaal losgaan: kies de bloemen die jij mooi vindt\, kies de grootte van de kaars en een geur waar je blij van wordt. Alles mag ✨!  \n\n\n\n\n\n\n\n\n\nHet leuke is: geen enkele kaars wordt hetzelfde – jouw creatie is echt uniek.Alles wordt rustig en stap voor stap uitgelegd\, dus ervaring is helemaal niet nodig. Tijdens de workshop kies je zelf de vorm\, kleur en geur van jouw kaars.De workshop is voor iedereen. En heel leuk om samen met vriendinnen of familie te doen. Deze cursus is ook toegankelijk en leuk om te doen als je een beperking hebt. \n\n\n\nOuders en/of begeleiders zijn welkom om mee te doen. Liever even ontspannen? Dan kunnen zij tijdens de workshop iets drinken bij café Chef! in hetzelfde gebouw. \n\n\n\nAan het einde van de workshop ga je naar huis met een prachtige\, zelfgemaakte Lentekaars waar je trots op kunt zijn!
URL:https://madebyheroes.nl/cursus/workshop-lente-kaarsen-maken/
CATEGORIES:16-28 jr - ook met beperking,iedereen
ATTACH;FMTTYPE=image/webp:https://madebyheroes.nl/wp-content/uploads/2026/03/springcandles-pile.webp
END:VEVENT
END:VCALENDAR